BEGIN:VCALENDAR
VERSION:2.0
PRODID:-//CERN//INDICO//EN
BEGIN:VEVENT
SUMMARY:ROMS vs POM: new tools for hydrodynamics simulations
DTSTART;VALUE=DATE-TIME:20080526T133000Z
DTEND;VALUE=DATE-TIME:20080526T143000Z
DTSTAMP;VALUE=DATE-TIME:20240229T155151Z
UID:indico-contribution-4@ictp.it
DESCRIPTION:Speakers: ANDREA BERGAMASCO (CNR ISMAR\, Venice\, Italy)\n//in
 dico.ictp.it/event/a07220/session/6/contribution/4
LOCATION:Cienfuegos - Cuba
URL://indico.ictp.it/event/a07220/session/6/contribution/4
END:VEVENT
END:VCALENDAR
