BEGIN:VCALENDAR
VERSION:2.0
PRODID:-//CERN//INDICO//EN
BEGIN:VEVENT
SUMMARY:The coastal area and the warming world
DTSTART;VALUE=DATE-TIME:20080527T090000Z
DTEND;VALUE=DATE-TIME:20080527T100000Z
DTSTAMP;VALUE=DATE-TIME:20240229T155143Z
UID:indico-contribution-7@ictp.it
DESCRIPTION:Speakers: VINCENZO ARTALE (ENEA CRE Casaccia\, Rome\, Italy)\n
 //indico.ictp.it/event/a07220/session/10/contribution/7
LOCATION:Cienfuegos - Cuba
URL://indico.ictp.it/event/a07220/session/10/contribution/7
END:VEVENT
END:VCALENDAR
