BEGIN:VCALENDAR
VERSION:2.0
PRODID:-//CERN//INDICO//EN
BEGIN:VEVENT
SUMMARY:Biogeochemical bases used in ecological modelling (I)
DTSTART;VALUE=DATE-TIME:20080527T100000Z
DTEND;VALUE=DATE-TIME:20080527T110000Z
DTSTAMP;VALUE=DATE-TIME:20240229T155343Z
UID:indico-contribution-11-0-8@ictp.it
DESCRIPTION:Speakers: CHRISTEL PINAZO (Université de la Méditerranée\, 
 Marseille\, France)\n//indico.ictp.it/event/a07220/session/11/contribution
 /8
LOCATION:Cienfuegos - Cuba
URL://indico.ictp.it/event/a07220/session/11/contribution/8
END:VEVENT
END:VCALENDAR
