BEGIN:VCALENDAR
VERSION:2.0
PRODID:-//CERN//INDICO//EN
BEGIN:VEVENT
SUMMARY:Benthic-pelagic coupling in coastal system\, viewed from a benthic
  perspective
DTSTART;VALUE=DATE-TIME:20080527T123000Z
DTEND;VALUE=DATE-TIME:20080527T133000Z
DTSTAMP;VALUE=DATE-TIME:20240229T155444Z
UID:indico-contribution-13-0-9@ictp.it
DESCRIPTION:Speakers: LIONEL DENIS (Station Marine de Wimereux - UMR CNRS\
 , France)\n//indico.ictp.it/event/a07220/session/13/contribution/9
LOCATION:Cienfuegos - Cuba
URL://indico.ictp.it/event/a07220/session/13/contribution/9
END:VEVENT
END:VCALENDAR
