BEGIN:VCALENDAR
VERSION:2.0
PRODID:-//CERN//INDICO//EN
BEGIN:VEVENT
SUMMARY:(no title)
DTSTART;VALUE=DATE-TIME:20080603T070000Z
DTEND;VALUE=DATE-TIME:20080603T070000Z
DTSTAMP;VALUE=DATE-TIME:20240229T155343Z
UID:indico-contribution-43-0-32@ictp.it
DESCRIPTION:Speakers: \n//indico.ictp.it/event/a07220/session/43/contribut
 ion/32
LOCATION:Cienfuegos - Cuba
URL://indico.ictp.it/event/a07220/session/43/contribution/32
END:VEVENT
END:VCALENDAR
