BEGIN:VCALENDAR
VERSION:2.0
PRODID:-//CERN//INDICO//EN
BEGIN:VEVENT
SUMMARY:Lunch
DTSTART;VALUE=DATE-TIME:20080603T110000Z
DTEND;VALUE=DATE-TIME:20080603T123000Z
DTSTAMP;VALUE=DATE-TIME:20240229T160202Z
UID:indico-event-44-0@ictp.it
DESCRIPTION://indico.ictp.it/event/a07220/session/44/?slotId=0
LOCATION:Cienfuegos - Cuba
URL://indico.ictp.it/event/a07220/session/44/?slotId=0
END:VEVENT
END:VCALENDAR
