BEGIN:VCALENDAR
VERSION:2.0
PRODID:-//CERN//INDICO//EN
BEGIN:VEVENT
SUMMARY:Parallel Programming - Part I
DTSTART;VALUE=DATE-TIME:20090625T063000Z
DTEND;VALUE=DATE-TIME:20090625T071500Z
DTSTAMP;VALUE=DATE-TIME:20240229T165602Z
UID:indico-contribution-25@ictp.it
DESCRIPTION:Speakers: G.J. DIAZ TORO ()\n//indico.ictp.it/event/a08194/ses
 sion/33/contribution/25
LOCATION:Antioquia - Colombia
URL://indico.ictp.it/event/a08194/session/33/contribution/25
END:VEVENT
END:VCALENDAR
