BEGIN:VCALENDAR
VERSION:2.0
PRODID:-//CERN//INDICO//EN
BEGIN:VEVENT
SUMMARY:Parallel Programming - Part II
DTSTART;VALUE=DATE-TIME:20090625T071500Z
DTEND;VALUE=DATE-TIME:20090625T080000Z
DTSTAMP;VALUE=DATE-TIME:20240229T165648Z
UID:indico-contribution-26@ictp.it
DESCRIPTION:Speakers: G.J. DIAZ TORO ()\n//indico.ictp.it/event/a08194/ses
 sion/34/contribution/26
LOCATION:Antioquia - Colombia
URL://indico.ictp.it/event/a08194/session/34/contribution/26
END:VEVENT
END:VCALENDAR
