BEGIN:VCALENDAR
VERSION:2.0
PRODID:-//CERN//INDICO//EN
BEGIN:VEVENT
SUMMARY:Parallel Programming - Part III
DTSTART;VALUE=DATE-TIME:20090625T083000Z
DTEND;VALUE=DATE-TIME:20090625T090000Z
DTSTAMP;VALUE=DATE-TIME:20240229T165600Z
UID:indico-contribution-27@ictp.it
DESCRIPTION:Speakers: G.J. DIAZ TORO ()\n//indico.ictp.it/event/a08194/ses
 sion/36/contribution/27
LOCATION:Antioquia - Colombia
URL://indico.ictp.it/event/a08194/session/36/contribution/27
END:VEVENT
END:VCALENDAR
