BEGIN:VCALENDAR
VERSION:2.0
PRODID:-//CERN//INDICO//EN
BEGIN:VEVENT
SUMMARY:Laboratory 2: Tools for HPC
DTSTART;VALUE=DATE-TIME:20090623T140000Z
DTEND;VALUE=DATE-TIME:20090623T153000Z
DTSTAMP;VALUE=DATE-TIME:20240229T165740Z
UID:indico-contribution-19-0-14@ictp.it
DESCRIPTION:Speakers: S. COZZINI ()\n//indico.ictp.it/event/a08194/session
 /19/contribution/14
LOCATION:Antioquia - Colombia
URL://indico.ictp.it/event/a08194/session/19/contribution/14
END:VEVENT
END:VCALENDAR
