BEGIN:VCALENDAR
VERSION:2.0
PRODID:-//CERN//INDICO//EN
BEGIN:VEVENT
SUMMARY:Laboratory Free Activities
DTSTART;VALUE=DATE-TIME:20090623T160000Z
DTEND;VALUE=DATE-TIME:20090623T180000Z
DTSTAMP;VALUE=DATE-TIME:20240229T165806Z
UID:indico-contribution-20-0-15@ictp.it
DESCRIPTION:Speakers: \n//indico.ictp.it/event/a08194/session/20/contribut
 ion/15
LOCATION:Antioquia - Colombia
URL://indico.ictp.it/event/a08194/session/20/contribution/15
END:VEVENT
END:VCALENDAR
