BEGIN:VCALENDAR
VERSION:2.0
PRODID:-//CERN//INDICO//EN
BEGIN:VEVENT
SUMMARY:Invited Talk
DTSTART;VALUE=DATE-TIME:20090625T090000Z
DTEND;VALUE=DATE-TIME:20090625T100000Z
DTSTAMP;VALUE=DATE-TIME:20240229T165754Z
UID:indico-contribution-37-0-28@ictp.it
DESCRIPTION:Speakers: J.I. ZULUAGA CALLEJAS ()\n//indico.ictp.it/event/a08
 194/session/37/contribution/28
LOCATION:Antioquia - Colombia
URL://indico.ictp.it/event/a08194/session/37/contribution/28
END:VEVENT
END:VCALENDAR
