BEGIN:VCALENDAR
VERSION:2.0
PRODID:-//CERN//INDICO//EN
BEGIN:VEVENT
SUMMARY:Invited Talk
DTSTART;VALUE=DATE-TIME:20090626T090000Z
DTEND;VALUE=DATE-TIME:20090626T100000Z
DTSTAMP;VALUE=DATE-TIME:20240229T165752Z
UID:indico-contribution-48-0-36@ictp.it
DESCRIPTION:Speakers: G.J. DIAZ TORO ()\n//indico.ictp.it/event/a08194/ses
 sion/48/contribution/36
LOCATION:Antioquia - Colombia
URL://indico.ictp.it/event/a08194/session/48/contribution/36
END:VEVENT
END:VCALENDAR
