BEGIN:VCALENDAR
VERSION:2.0
PRODID:-//CERN//INDICO//EN
BEGIN:VEVENT
SUMMARY:Core-shell magnetic nanoparticles covered with Au and Pt: synthesi
 s\, characterization\, properties and functionalization
DTSTART;VALUE=DATE-TIME:20090824T101500Z
DTEND;VALUE=DATE-TIME:20090824T110000Z
DTSTAMP;VALUE=DATE-TIME:20240229T171340Z
UID:indico-contribution-11@ictp.it
DESCRIPTION:Speakers: OVIDIU PANA ()\n//indico.ictp.it/event/a08225/sessio
 n/16/contribution/11
LOCATION:Sibiu - Romania
URL://indico.ictp.it/event/a08225/session/16/contribution/11
END:VEVENT
END:VCALENDAR
