BEGIN:VCALENDAR
VERSION:2.0
PRODID:-//CERN//INDICO//EN
BEGIN:VEVENT
SUMMARY:Semiconductor nanocrystals with biomedical applications
DTSTART;VALUE=DATE-TIME:20090824T144500Z
DTEND;VALUE=DATE-TIME:20090824T151500Z
DTSTAMP;VALUE=DATE-TIME:20240229T171321Z
UID:indico-contribution-14@ictp.it
DESCRIPTION:Speakers: OTILIA CINTEZA ()\n//indico.ictp.it/event/a08225/ses
 sion/21/contribution/14
LOCATION:Sibiu - Romania
URL://indico.ictp.it/event/a08225/session/21/contribution/14
END:VEVENT
END:VCALENDAR
