BEGIN:VCALENDAR
VERSION:2.0
PRODID:-//CERN//INDICO//EN
BEGIN:VEVENT
SUMMARY:Magnetic nanowires
DTSTART;VALUE=DATE-TIME:20090827T093000Z
DTEND;VALUE=DATE-TIME:20090827T100000Z
DTSTAMP;VALUE=DATE-TIME:20240229T171244Z
UID:indico-contribution-41@ictp.it
DESCRIPTION:Speakers: H. CHIRIAC ()\n//indico.ictp.it/event/a08225/session
 /55/contribution/41
LOCATION:Sibiu - Romania
URL://indico.ictp.it/event/a08225/session/55/contribution/41
END:VEVENT
END:VCALENDAR
