BEGIN:VCALENDAR
VERSION:2.0
PRODID:-//CERN//INDICO//EN
BEGIN:VEVENT
SUMMARY:-
DTSTART;VALUE=DATE-TIME:20090828T101500Z
DTEND;VALUE=DATE-TIME:20090828T104500Z
DTSTAMP;VALUE=DATE-TIME:20240229T171712Z
UID:indico-contribution-51@ictp.it
DESCRIPTION:Speakers: \n//indico.ictp.it/event/a08225/session/69/contribut
 ion/51
LOCATION:Sibiu - Romania
URL://indico.ictp.it/event/a08225/session/69/contribution/51
END:VEVENT
END:VCALENDAR
