BEGIN:VCALENDAR
VERSION:2.0
PRODID:-//CERN//INDICO//EN
BEGIN:VEVENT
SUMMARY:Introductory lecture
DTSTART;VALUE=DATE-TIME:20090823T074500Z
DTEND;VALUE=DATE-TIME:20090823T083000Z
DTSTAMP;VALUE=DATE-TIME:20240229T171313Z
UID:indico-contribution-7@ictp.it
DESCRIPTION:Speakers: OLGUN GUVEN ()\n//indico.ictp.it/event/a08225/sessio
 n/10/contribution/7
LOCATION:Sibiu - Romania
URL://indico.ictp.it/event/a08225/session/10/contribution/7
END:VEVENT
END:VCALENDAR
