BEGIN:VCALENDAR
VERSION:2.0
PRODID:-//CERN//INDICO//EN
BEGIN:VEVENT
SUMMARY:Radiation-induced grafting for nanostructuring of surfaces
DTSTART;VALUE=DATE-TIME:20090824T090000Z
DTEND;VALUE=DATE-TIME:20090824T093000Z
DTSTAMP;VALUE=DATE-TIME:20240229T171353Z
UID:indico-contribution-9@ictp.it
DESCRIPTION:Speakers: OLGUN GUVEN ()\n//indico.ictp.it/event/a08225/sessio
 n/14/contribution/9
LOCATION:Sibiu - Romania
URL://indico.ictp.it/event/a08225/session/14/contribution/9
END:VEVENT
END:VCALENDAR
