BEGIN:VCALENDAR
VERSION:2.0
PRODID:-//CERN//INDICO//EN
BEGIN:VEVENT
SUMMARY:Synthesis of carbon nanowalls in a low pressure expanding plasma
DTSTART;VALUE=DATE-TIME:20090826T094500Z
DTEND;VALUE=DATE-TIME:20090826T101500Z
DTSTAMP;VALUE=DATE-TIME:20240229T171708Z
UID:indico-contribution-48-0-36@ictp.it
DESCRIPTION:Speakers: GEORGE DINESCU ()\n//indico.ictp.it/event/a08225/ses
 sion/48/contribution/36
LOCATION:Sibiu - Romania
URL://indico.ictp.it/event/a08225/session/48/contribution/36
END:VEVENT
END:VCALENDAR
