BEGIN:VCALENDAR
VERSION:2.0
PRODID:-//CERN//INDICO//EN
BEGIN:VEVENT
SUMMARY:Ab-initio simulations in nanoscience
DTSTART;VALUE=DATE-TIME:20090827T074500Z
DTEND;VALUE=DATE-TIME:20090827T083000Z
DTSTAMP;VALUE=DATE-TIME:20240229T171530Z
UID:indico-contribution-61-0-45@ictp.it
DESCRIPTION:Speakers: SANDRO SCANDOLO ()\n//indico.ictp.it/event/a08225/se
 ssion/61/contribution/45
LOCATION:Sibiu - Romania
URL://indico.ictp.it/event/a08225/session/61/contribution/45
END:VEVENT
END:VCALENDAR
