BEGIN:VCALENDAR
VERSION:2.0
PRODID:-//CERN//INDICO//EN
BEGIN:VEVENT
SUMMARY:Understanding nanomechanical response via modelling and simulation
DTSTART;VALUE=DATE-TIME:20090827T083000Z
DTEND;VALUE=DATE-TIME:20090827T090000Z
DTSTAMP;VALUE=DATE-TIME:20240229T171644Z
UID:indico-contribution-62-0-46@ictp.it
DESCRIPTION:Speakers: TRAIAN DUMITRICA ()\n//indico.ictp.it/event/a08225/s
 ession/62/contribution/46
LOCATION:Sibiu - Romania
URL://indico.ictp.it/event/a08225/session/62/contribution/46
END:VEVENT
END:VCALENDAR
