BEGIN:VCALENDAR
VERSION:2.0
PRODID:-//CERN//INDICO//EN
BEGIN:VEVENT
SUMMARY:New trends in X ray line profiles analysis using various mathemati
 cal distributions – a comparative study
DTSTART;VALUE=DATE-TIME:20090823T151500Z
DTEND;VALUE=DATE-TIME:20090823T160000Z
DTSTAMP;VALUE=DATE-TIME:20240229T171544Z
UID:indico-contribution-7-0-5@ictp.it
DESCRIPTION:Speakers: NICOLAE ALDEA ()\n//indico.ictp.it/event/a08225/sess
 ion/7/contribution/5
LOCATION:Sibiu - Romania
URL://indico.ictp.it/event/a08225/session/7/contribution/5
END:VEVENT
END:VCALENDAR
