BEGIN:VCALENDAR
VERSION:2.0
PRODID:-//CERN//INDICO//EN
BEGIN:VEVENT
SUMMARY:Spin-electric coupling in molecular magnets
DTSTART;VALUE=DATE-TIME:20090828T133000Z
DTEND;VALUE=DATE-TIME:20090828T140000Z
DTSTAMP;VALUE=DATE-TIME:20240229T171547Z
UID:indico-contribution-72-0-53@ictp.it
DESCRIPTION:Speakers: MICEA TRIF ()\n//indico.ictp.it/event/a08225/session
 /72/contribution/53
LOCATION:Sibiu - Romania
URL://indico.ictp.it/event/a08225/session/72/contribution/53
END:VEVENT
END:VCALENDAR
