BEGIN:VCALENDAR
VERSION:2.0
PRODID:-//CERN//INDICO//EN
BEGIN:VEVENT
SUMMARY:REGISTRATION AND ADMINISTRATIVE FORMALITIES
DTSTART;VALUE=DATE-TIME:20100315T080000Z
DTEND;VALUE=DATE-TIME:20100315T103000Z
DTSTAMP;VALUE=DATE-TIME:20240229T180930Z
UID:indico-contribution-0@ictp.it
DESCRIPTION:Speakers: \n//indico.ictp.it/event/a09180/session/0/contributi
 on/0
LOCATION:Mar del Plata - Argentina - Room alternative: LOBBY\, UCAECE UNIV
 ERSITY MAIN ENTRANCE
URL://indico.ictp.it/event/a09180/session/0/contribution/0
END:VEVENT
END:VCALENDAR
