BEGIN:VCALENDAR
VERSION:2.0
PRODID:-//CERN//INDICO//EN
BEGIN:VEVENT
SUMMARY:Programmable logic & FPGA architectures
DTSTART;VALUE=DATE-TIME:20100317T153000Z
DTEND;VALUE=DATE-TIME:20100317T163000Z
DTSTAMP;VALUE=DATE-TIME:20240229T180410Z
UID:indico-contribution-18@ictp.it
DESCRIPTION:Speakers: NIZAR ABDALLAH ()\n//indico.ictp.it/event/a09180/ses
 sion/26/contribution/18
LOCATION:Mar del Plata - Argentina
URL://indico.ictp.it/event/a09180/session/26/contribution/18
END:VEVENT
END:VCALENDAR
