BEGIN:VCALENDAR
VERSION:2.0
PRODID:-//CERN//INDICO//EN
BEGIN:VEVENT
SUMMARY:Introduction to CMOS Technology and VLSI Design.
DTSTART;VALUE=DATE-TIME:20100322T090000Z
DTEND;VALUE=DATE-TIME:20100322T100000Z
DTSTAMP;VALUE=DATE-TIME:20240229T180456Z
UID:indico-contribution-33@ictp.it
DESCRIPTION:Speakers: PAULO RODRIGUES S. MOREIRA ()\n//indico.ictp.it/even
 t/a09180/session/47/contribution/33
LOCATION:Mar del Plata - Argentina
URL://indico.ictp.it/event/a09180/session/47/contribution/33
END:VEVENT
END:VCALENDAR
