BEGIN:VCALENDAR
VERSION:2.0
PRODID:-//CERN//INDICO//EN
BEGIN:VEVENT
SUMMARY:Advanced FPGA Applications.
DTSTART;VALUE=DATE-TIME:20100324T103000Z
DTEND;VALUE=DATE-TIME:20100324T113000Z
DTSTAMP;VALUE=DATE-TIME:20240229T180407Z
UID:indico-contribution-45@ictp.it
DESCRIPTION:Speakers: ALEXANDER KLUGE (CERN\, Geneva\, Switzerland)\n//ind
 ico.ictp.it/event/a09180/session/66/contribution/45
LOCATION:Mar del Plata - Argentina
URL://indico.ictp.it/event/a09180/session/66/contribution/45
END:VEVENT
END:VCALENDAR
