BEGIN:VCALENDAR
VERSION:2.0
PRODID:-//CERN//INDICO//EN
BEGIN:VEVENT
SUMMARY:Digital Signal Processing II
DTSTART;VALUE=DATE-TIME:20100325T090000Z
DTEND;VALUE=DATE-TIME:20100325T100000Z
DTSTAMP;VALUE=DATE-TIME:20240229T180512Z
UID:indico-contribution-51@ictp.it
DESCRIPTION:Speakers: MARCELO MAGNASCO ()\n//indico.ictp.it/event/a09180/s
 ession/74/contribution/51
LOCATION:Mar del Plata - Argentina
URL://indico.ictp.it/event/a09180/session/74/contribution/51
END:VEVENT
END:VCALENDAR
