BEGIN:VCALENDAR
VERSION:2.0
PRODID:-//CERN//INDICO//EN
BEGIN:VEVENT
SUMMARY:Selected topics on Logic Synthesis and FPGA Debugging (cont.)
DTSTART;VALUE=DATE-TIME:20100326T090000Z
DTEND;VALUE=DATE-TIME:20100326T100000Z
DTSTAMP;VALUE=DATE-TIME:20240229T180456Z
UID:indico-contribution-57@ictp.it
DESCRIPTION:Speakers: ANDRES CICUTTIN ()\n//indico.ictp.it/event/a09180/se
 ssion/83/contribution/57
LOCATION:Mar del Plata - Argentina
URL://indico.ictp.it/event/a09180/session/83/contribution/57
END:VEVENT
END:VCALENDAR
