BEGIN:VCALENDAR
VERSION:2.0
PRODID:-//CERN//INDICO//EN
BEGIN:VEVENT
SUMMARY:Reconfigurable Virtual Instrumentation (RVI) based on FPGA.
DTSTART;VALUE=DATE-TIME:20100326T103000Z
DTEND;VALUE=DATE-TIME:20100326T113000Z
DTSTAMP;VALUE=DATE-TIME:20240229T180450Z
UID:indico-contribution-58@ictp.it
DESCRIPTION:Speakers: ANDRES CICUTTIN ()\n//indico.ictp.it/event/a09180/se
 ssion/85/contribution/58
LOCATION:Mar del Plata - Argentina
URL://indico.ictp.it/event/a09180/session/85/contribution/58
END:VEVENT
END:VCALENDAR
