BEGIN:VCALENDAR
VERSION:2.0
PRODID:-//CERN//INDICO//EN
BEGIN:VEVENT
SUMMARY:Laboratory Exercises: Digital Signal Processing with FPGA.
DTSTART;VALUE=DATE-TIME:20100330T130000Z
DTEND;VALUE=DATE-TIME:20100330T140000Z
DTSTAMP;VALUE=DATE-TIME:20240229T181031Z
UID:indico-contribution-72@ictp.it
DESCRIPTION:Speakers: \n//indico.ictp.it/event/a09180/session/106/contribu
 tion/72
LOCATION:Mar del Plata - Argentina
URL://indico.ictp.it/event/a09180/session/106/contribution/72
END:VEVENT
END:VCALENDAR
