BEGIN:VCALENDAR
VERSION:2.0
PRODID:-//CERN//INDICO//EN
BEGIN:VEVENT
SUMMARY:Distribution of Diplomas of Attendance
DTSTART;VALUE=DATE-TIME:20100331T133000Z
DTEND;VALUE=DATE-TIME:20100331T143000Z
DTSTAMP;VALUE=DATE-TIME:20240229T180742Z
UID:indico-contribution-116-0-78@ictp.it
DESCRIPTION:Speakers: \n//indico.ictp.it/event/a09180/session/116/contribu
 tion/78
LOCATION:Mar del Plata - Argentina
URL://indico.ictp.it/event/a09180/session/116/contribution/78
END:VEVENT
END:VCALENDAR
