BEGIN:VCALENDAR
VERSION:2.0
PRODID:-//CERN//INDICO//EN
BEGIN:VEVENT
SUMMARY:(LiberoTM IDE) Design Entry.
DTSTART;VALUE=DATE-TIME:20100316T130000Z
DTEND;VALUE=DATE-TIME:20100316T140000Z
DTSTAMP;VALUE=DATE-TIME:20240229T181035Z
UID:indico-contribution-13-0-9@ictp.it
DESCRIPTION:Speakers: NIZAR ABDALLAH ()\n//indico.ictp.it/event/a09180/ses
 sion/13/contribution/9
LOCATION:Mar del Plata - Argentina
URL://indico.ictp.it/event/a09180/session/13/contribution/9
END:VEVENT
END:VCALENDAR
