BEGIN:VCALENDAR
VERSION:2.0
PRODID:-//CERN//INDICO//EN
BEGIN:VEVENT
SUMMARY:Fourier Theory II.
DTSTART;VALUE=DATE-TIME:20100324T080000Z
DTEND;VALUE=DATE-TIME:20100324T090000Z
DTSTAMP;VALUE=DATE-TIME:20240229T180938Z
UID:indico-contribution-63-0-43@ictp.it
DESCRIPTION:Speakers: MARCELO MAGNASCO ()\n//indico.ictp.it/event/a09180/s
 ession/63/contribution/43
LOCATION:Mar del Plata - Argentina
URL://indico.ictp.it/event/a09180/session/63/contribution/43
END:VEVENT
END:VCALENDAR
