BEGIN:VCALENDAR
VERSION:2.0
PRODID:-//CERN//INDICO//EN
BEGIN:VEVENT
SUMMARY:Radiation Effects in Semiconductor Devices.
DTSTART;VALUE=DATE-TIME:20100329T070000Z
DTEND;VALUE=DATE-TIME:20100329T080000Z
DTSTAMP;VALUE=DATE-TIME:20240229T181129Z
UID:indico-contribution-92-0-63@ictp.it
DESCRIPTION:Speakers: FELIX PALUMBO (CONICET - CNEA\, Buenos Aires)\n//ind
 ico.ictp.it/event/a09180/session/92/contribution/63
LOCATION:Mar del Plata - Argentina
URL://indico.ictp.it/event/a09180/session/92/contribution/63
END:VEVENT
END:VCALENDAR
