BEGIN:VCALENDAR
VERSION:2.0
PRODID:-//CERN//INDICO//EN
BEGIN:VEVENT
SUMMARY:Student presentations
DTSTART;VALUE=DATE-TIME:20151211T134500Z
DTEND;VALUE=DATE-TIME:20151211T151500Z
DTSTAMP;VALUE=DATE-TIME:20240320T001824Z
UID:indico-contribution-132@ictp.it
DESCRIPTION:Speakers: \n//indico.ictp.it/event/a14273/session/24/contribut
 ion/132
LOCATION:ICTP Leonardo Building - Euler Lecture Hall
URL://indico.ictp.it/event/a14273/session/24/contribution/132
END:VEVENT
END:VCALENDAR
