BEGIN:VCALENDAR
VERSION:2.0
PRODID:-//CERN//INDICO//EN
BEGIN:VEVENT
SUMMARY:Geothermal potential and favourability: data integration for resou
 rce assessment
DTSTART;VALUE=DATE-TIME:20151208T153000Z
DTEND;VALUE=DATE-TIME:20151208T161000Z
DTSTAMP;VALUE=DATE-TIME:20240319T225355Z
UID:indico-contribution-134@ictp.it
DESCRIPTION:Speakers: MANZELLA\, Adele (Istituto di Geoscienze e Georisors
 e\, Pisa)\n//indico.ictp.it/event/a14273/session/21/contribution/134
LOCATION:ICTP LB (Euler Lecture Hall)
URL://indico.ictp.it/event/a14273/session/21/contribution/134
END:VEVENT
END:VCALENDAR
